BEGIN:VCALENDAR
VERSION:2.0
PRODID:-//Fédération de Chirurgie Viscérale et Digestive - ECPv6.15.20//NONSGML v1.0//EN
CALSCALE:GREGORIAN
METHOD:PUBLISH
X-ORIGINAL-URL:https://www.fcvd.fr
X-WR-CALDESC:Évènements pour Fédération de Chirurgie Viscérale et Digestive
REFRESH-INTERVAL;VALUE=DURATION:PT1H
X-Robots-Tag:noindex
X-PUBLISHED-TTL:PT1H
BEGIN:VTIMEZONE
TZID:UTC
BEGIN:STANDARD
TZOFFSETFROM:+0000
TZOFFSETTO:+0000
TZNAME:UTC
DTSTART:20230101T000000
END:STANDARD
END:VTIMEZONE
BEGIN:VEVENT
DTSTART;TZID=UTC:20241109T093000
DTEND;TZID=UTC:20241109T123000
DTSTAMP:20260423T130926
CREATED:20240205T145414Z
LAST-MODIFIED:20240412T115944Z
UID:17338-1731144600-1731155400@www.fcvd.fr
SUMMARY:Réunion Régionale Rennes
DESCRIPTION:
URL:https://www.fcvd.fr/agenda/reunion-regionale-rennes-3/
LOCATION:Rennes\, Rennes\, 35000\, France
CATEGORIES:DPC FCVD Réunions Régionales
ATTACH;FMTTYPE=image/jpeg:https://www.fcvd.fr/wp-content/uploads/2020/10/LOGO_R_Bur.jpg
ORGANIZER;CN="FCVD - Inscriptions":MAILTO:fcvd.oa.dpc@gmail.com
END:VEVENT
END:VCALENDAR