BEGIN:VCALENDAR
VERSION:2.0
PRODID:-//Fédération de Chirurgie Viscérale et Digestive - ECPv6.15.20//NONSGML v1.0//EN
CALSCALE:GREGORIAN
METHOD:PUBLISH
X-ORIGINAL-URL:https://www.fcvd.fr
X-WR-CALDESC:Évènements pour Fédération de Chirurgie Viscérale et Digestive
REFRESH-INTERVAL;VALUE=DURATION:PT1H
X-Robots-Tag:noindex
X-PUBLISHED-TTL:PT1H
BEGIN:VTIMEZONE
TZID:UTC
BEGIN:STANDARD
TZOFFSETFROM:+0000
TZOFFSETTO:+0000
TZNAME:UTC
DTSTART:20240101T000000
END:STANDARD
END:VTIMEZONE
BEGIN:VEVENT
DTSTART;TZID=UTC:20250523T080000
DTEND;TZID=UTC:20250523T173000
DTSTAMP:20260423T084305
CREATED:20250204T150821Z
LAST-MODIFIED:20250204T150821Z
UID:20236-1747987200-1748021400@www.fcvd.fr
SUMMARY:SOFFCOMM
DESCRIPTION:
URL:https://www.fcvd.fr/agenda/soffcomm-2/
LOCATION:Saint-Etienne\, PARC DES EXPOSITIONS SAINT-ETIENNE - 31 Boulevard Jules Janin – Allée des Olympiades\, Saint-Etienne\, 42 000
CATEGORIES:Congrès
ATTACH;FMTTYPE=image/webp:https://www.fcvd.fr/wp-content/uploads/2025/02/Congres2.webp
END:VEVENT
END:VCALENDAR