BEGIN:VCALENDAR
VERSION:2.0
PRODID:-//Fédération de Chirurgie Viscérale et Digestive - ECPv6.15.20//NONSGML v1.0//EN
CALSCALE:GREGORIAN
METHOD:PUBLISH
X-ORIGINAL-URL:https://www.fcvd.fr
X-WR-CALDESC:Évènements pour Fédération de Chirurgie Viscérale et Digestive
REFRESH-INTERVAL;VALUE=DURATION:PT1H
X-Robots-Tag:noindex
X-PUBLISHED-TTL:PT1H
BEGIN:VTIMEZONE
TZID:UTC
BEGIN:STANDARD
TZOFFSETFROM:+0000
TZOFFSETTO:+0000
TZNAME:UTC
DTSTART:20230101T000000
END:STANDARD
END:VTIMEZONE
BEGIN:VEVENT
DTSTART;TZID=UTC:20240308T141500
DTEND;TZID=UTC:20240308T164500
DTSTAMP:20260423T133137
CREATED:20240209T102619Z
LAST-MODIFIED:20240209T102619Z
UID:17542-1709907300-1709916300@www.fcvd.fr
SUMMARY:DÉVELOPPEMENT PROFESSIONNEL CONTINU GESTION DES COMPLICATIONS POST-OPERATOIRES
DESCRIPTION:DPC JOURNÉES DE CHIRURGIE DIGESTIVE BICHAT-BEAUJON-MOURIER
URL:https://www.fcvd.fr/agenda/developpement-professionnel-continu-gestion-des-complications-post-operatoires/
LOCATION:IFSI Beaujon\, 133 BD Ney\, Paris\, 75018\, France
CATEGORIES:DPC des partenaires
ATTACH;FMTTYPE=image/png:https://www.fcvd.fr/wp-content/uploads/2024/02/icone-visio.png
ORGANIZER;CN="FCVD - Inscriptions":MAILTO:fcvd.oa.dpc@gmail.com
END:VEVENT
BEGIN:VEVENT
DTSTART;TZID=UTC:20240329T140000
DTEND;TZID=UTC:20240329T170000
DTSTAMP:20260423T133137
CREATED:20240207T084053Z
LAST-MODIFIED:20240209T142804Z
UID:17511-1711720800-1711731600@www.fcvd.fr
SUMMARY:DPC JFCCR
DESCRIPTION:
URL:https://www.fcvd.fr/agenda/dpc-jfccr-2/
LOCATION:Bordeaux Auditorium\, Auditorium Thomas Jefferson - 134 quai de Bataclan -\, Bordeaux\, 33300\, France
CATEGORIES:DPC des partenaires
ATTACH;FMTTYPE=image/png:https://www.fcvd.fr/wp-content/uploads/2024/02/humans-18-512.png
END:VEVENT
END:VCALENDAR