BEGIN:VCALENDAR
VERSION:2.0
PRODID:-//Fédération de Chirurgie Viscérale et Digestive - ECPv6.15.20//NONSGML v1.0//EN
CALSCALE:GREGORIAN
METHOD:PUBLISH
X-ORIGINAL-URL:https://www.fcvd.fr
X-WR-CALDESC:Évènements pour Fédération de Chirurgie Viscérale et Digestive
REFRESH-INTERVAL;VALUE=DURATION:PT1H
X-Robots-Tag:noindex
X-PUBLISHED-TTL:PT1H
BEGIN:VTIMEZONE
TZID:UTC
BEGIN:STANDARD
TZOFFSETFROM:+0000
TZOFFSETTO:+0000
TZNAME:UTC
DTSTART:20240101T000000
END:STANDARD
END:VTIMEZONE
BEGIN:VEVENT
DTSTART;TZID=UTC:20250506T190000
DTEND;TZID=UTC:20250506T220000
DTSTAMP:20260421T115106
CREATED:20250127T111741Z
LAST-MODIFIED:20250127T130518Z
UID:20069-1746558000-1746568800@www.fcvd.fr
SUMMARY:Réunion régionale Bordeaux
DESCRIPTION:
URL:https://www.fcvd.fr/agenda/reunion-regionale-bordeaux-4/
LOCATION:Bordeaux\, Hôtel Mercure Château Chartrons\, 81 Cours Saint-Louis\, Bordeaux\, 33300\, France
CATEGORIES:DPC FCVD Réunions Régionales
ATTACH;FMTTYPE=image/png:https://www.fcvd.fr/wp-content/uploads/2024/02/humans-18-512.png
ORGANIZER;CN="FCVD - Inscriptions":MAILTO:fcvd.oa.dpc@gmail.com
END:VEVENT
BEGIN:VEVENT
DTSTART;TZID=UTC:20250515T183000
DTEND;TZID=UTC:20250515T213000
DTSTAMP:20260421T115106
CREATED:20250127T111908Z
LAST-MODIFIED:20250127T130621Z
UID:20071-1747333800-1747344600@www.fcvd.fr
SUMMARY:Réunion régionale Strasbourg
DESCRIPTION:
URL:https://www.fcvd.fr/agenda/reunion-regionale-strasbourg-4/
LOCATION:Strasbourg\, Clinique de l'Orangerie\, 29 All. de la Robertsau\, Strasbourg\, 67000\, France
CATEGORIES:DPC FCVD Réunions Régionales
ATTACH;FMTTYPE=image/png:https://www.fcvd.fr/wp-content/uploads/2024/02/humans-18-512.png
ORGANIZER;CN="FCVD - Inscriptions":MAILTO:fcvd.oa.dpc@gmail.com
END:VEVENT
END:VCALENDAR