BEGIN:VCALENDAR
VERSION:2.0
PRODID:-//Fédération de Chirurgie Viscérale et Digestive - ECPv6.15.20//NONSGML v1.0//EN
CALSCALE:GREGORIAN
METHOD:PUBLISH
X-ORIGINAL-URL:https://www.fcvd.fr
X-WR-CALDESC:Évènements pour Fédération de Chirurgie Viscérale et Digestive
REFRESH-INTERVAL;VALUE=DURATION:PT1H
X-Robots-Tag:noindex
X-PUBLISHED-TTL:PT1H
BEGIN:VTIMEZONE
TZID:UTC
BEGIN:STANDARD
TZOFFSETFROM:+0000
TZOFFSETTO:+0000
TZNAME:UTC
DTSTART:20240101T000000
END:STANDARD
END:VTIMEZONE
BEGIN:VEVENT
DTSTART;TZID=UTC:20250603T190000
DTEND;TZID=UTC:20250603T220000
DTSTAMP:20260423T101721
CREATED:20250127T112135Z
LAST-MODIFIED:20250127T130700Z
UID:20073-1748977200-1748988000@www.fcvd.fr
SUMMARY:Réunion régionale Paris
DESCRIPTION:
URL:https://www.fcvd.fr/agenda/reunion-regionale-paris-6/
LOCATION:Paris\, Novotel Paris Centre Gare Montparnasse - 17 rue du Cotentin\, 75015 Paris - France\, Paris\, 75014\, France
CATEGORIES:DPC FCVD Réunions Régionales
ATTACH;FMTTYPE=image/png:https://www.fcvd.fr/wp-content/uploads/2024/02/humans-18-512.png
ORGANIZER;CN="FCVD - Inscriptions":MAILTO:fcvd.oa.dpc@gmail.com
END:VEVENT
BEGIN:VEVENT
DTSTART;TZID=UTC:20250605T183000
DTEND;TZID=UTC:20250605T213000
DTSTAMP:20260423T101721
CREATED:20250127T112905Z
LAST-MODIFIED:20250127T130722Z
UID:20075-1749148200-1749159000@www.fcvd.fr
SUMMARY:Réunion régionale Brest
DESCRIPTION:
URL:https://www.fcvd.fr/agenda/reunion-regionale-brest-4/
LOCATION:Brest\, Mercure Brest Centre Les Voyageurs\, 2 rue Yves Collet\, Brest\, 29200\, France
CATEGORIES:DPC FCVD Réunions Régionales
ATTACH;FMTTYPE=image/png:https://www.fcvd.fr/wp-content/uploads/2024/02/humans-18-512.png
ORGANIZER;CN="FCVD - Inscriptions":MAILTO:fcvd.oa.dpc@gmail.com
END:VEVENT
BEGIN:VEVENT
DTSTART;TZID=UTC:20250628T093000
DTEND;TZID=UTC:20250628T123000
DTSTAMP:20260423T101721
CREATED:20250127T113131Z
LAST-MODIFIED:20250127T130747Z
UID:20079-1751103000-1751113800@www.fcvd.fr
SUMMARY:Réunion régionale Nice
DESCRIPTION:
URL:https://www.fcvd.fr/agenda/reunion-regionale-nice-4/
LOCATION:Nice\, Nice\, 06000
CATEGORIES:DPC FCVD Réunions Régionales
ATTACH;FMTTYPE=image/png:https://www.fcvd.fr/wp-content/uploads/2024/02/humans-18-512.png
ORGANIZER;CN="FCVD - Inscriptions":MAILTO:fcvd.oa.dpc@gmail.com
END:VEVENT
END:VCALENDAR