BEGIN:VCALENDAR
VERSION:2.0
PRODID:-//Fédération de Chirurgie Viscérale et Digestive - ECPv6.15.20//NONSGML v1.0//EN
CALSCALE:GREGORIAN
METHOD:PUBLISH
X-WR-CALNAME:Fédération de Chirurgie Viscérale et Digestive
X-ORIGINAL-URL:https://www.fcvd.fr
X-WR-CALDESC:Évènements pour Fédération de Chirurgie Viscérale et Digestive
REFRESH-INTERVAL;VALUE=DURATION:PT1H
X-Robots-Tag:noindex
X-PUBLISHED-TTL:PT1H
BEGIN:VTIMEZONE
TZID:UTC
BEGIN:STANDARD
TZOFFSETFROM:+0000
TZOFFSETTO:+0000
TZNAME:UTC
DTSTART:20250101T000000
END:STANDARD
END:VTIMEZONE
BEGIN:VEVENT
DTSTART;TZID=UTC:20260905T093000
DTEND;TZID=UTC:20260905T123000
DTSTAMP:20260421T181124
CREATED:20260115T152825Z
LAST-MODIFIED:20260420T131809Z
UID:21779-1788600600-1788611400@www.fcvd.fr
SUMMARY:Réunion régionale Lyon
DESCRIPTION:Fin d’inscription sur l’agence du DPC le 23-09-2026
URL:https://www.fcvd.fr/agenda/reunion-regionale-lyon-5/
LOCATION:Lyon
CATEGORIES:DPC FCVD Réunions Régionales
ATTACH;FMTTYPE=image/png:https://www.fcvd.fr/wp-content/uploads/2024/02/humans-18-512.png
ORGANIZER;CN="FCVD - Inscriptions":MAILTO:fcvd.oa.dpc@gmail.com
END:VEVENT
BEGIN:VEVENT
DTSTART;TZID=UTC:20260908T190000
DTEND;TZID=UTC:20260908T220000
DTSTAMP:20260421T181125
CREATED:20260203T152127Z
LAST-MODIFIED:20260203T152156Z
UID:21964-1788894000-1788904800@www.fcvd.fr
SUMMARY:Réunion régionale Lille
DESCRIPTION:Fin d’inscription sur l’agence du DPC le 27-08-2026
URL:https://www.fcvd.fr/agenda/reunion-regionale-lille-5/
CATEGORIES:DPC FCVD Réunions Régionales
END:VEVENT
BEGIN:VEVENT
DTSTART;TZID=UTC:20260919T093000
DTEND;TZID=UTC:20260919T123000
DTSTAMP:20260421T181125
CREATED:20260203T152526Z
LAST-MODIFIED:20260203T152526Z
UID:21968-1789810200-1789821000@www.fcvd.fr
SUMMARY:Réunion régionale Bayonne
DESCRIPTION:Fin d’inscription sur l’agence du DPC le 03-09-2026
URL:https://www.fcvd.fr/agenda/reunion-regionale-bayonne-4/
LOCATION:Bayonne\, Biarritz\, 64200
CATEGORIES:DPC FCVD Réunions Régionales
ATTACH;FMTTYPE=image/png:https://www.fcvd.fr/wp-content/uploads/2024/02/humans-18-512.png
ORGANIZER;CN="FCVD - Inscriptions":MAILTO:fcvd.oa.dpc@gmail.com
END:VEVENT
END:VCALENDAR