BEGIN:VCALENDAR
VERSION:2.0
PRODID:-//Fédération de Chirurgie Viscérale et Digestive - ECPv6.15.20//NONSGML v1.0//EN
CALSCALE:GREGORIAN
METHOD:PUBLISH
X-ORIGINAL-URL:https://www.fcvd.fr
X-WR-CALDESC:Évènements pour Fédération de Chirurgie Viscérale et Digestive
REFRESH-INTERVAL;VALUE=DURATION:PT1H
X-Robots-Tag:noindex
X-PUBLISHED-TTL:PT1H
BEGIN:VTIMEZONE
TZID:UTC
BEGIN:STANDARD
TZOFFSETFROM:+0000
TZOFFSETTO:+0000
TZNAME:UTC
DTSTART:20250101T000000
END:STANDARD
END:VTIMEZONE
BEGIN:VEVENT
DTSTART;TZID=UTC:20261114T093000
DTEND;TZID=UTC:20261114T123000
DTSTAMP:20260421T212101
CREATED:20260203T153127Z
LAST-MODIFIED:20260203T153127Z
UID:21978-1794648600-1794659400@www.fcvd.fr
SUMMARY:Réunion régionale Rennes
DESCRIPTION:Fin d’inscription sur l’agence du DPC le 30-10-2026
URL:https://www.fcvd.fr/agenda/reunion-regionale-rennes-5/
LOCATION:Rennes\, Rennes\, 35000\, France
CATEGORIES:DPC FCVD Réunions Régionales
ATTACH;FMTTYPE=image/png:https://www.fcvd.fr/wp-content/uploads/2024/02/humans-18-512.png
ORGANIZER;CN="FCVD - Inscriptions":MAILTO:fcvd.oa.dpc@gmail.com
END:VEVENT
BEGIN:VEVENT
DTSTART;TZID=UTC:20261117T183000
DTEND;TZID=UTC:20261117T213000
DTSTAMP:20260421T212101
CREATED:20260203T153321Z
LAST-MODIFIED:20260203T153321Z
UID:21981-1794940200-1794951000@www.fcvd.fr
SUMMARY:Réunion régionale Angers
DESCRIPTION:Fin d’inscription sur l’agence du DPC le 03-11-2026
URL:https://www.fcvd.fr/agenda/reunion-regionale-angers-5/
LOCATION:Angers\, Angers\, 49000\, France
CATEGORIES:DPC FCVD Réunions Régionales
ATTACH;FMTTYPE=image/png:https://www.fcvd.fr/wp-content/uploads/2024/02/humans-18-512.png
ORGANIZER;CN="FCVD - Inscriptions":MAILTO:fcvd.oa.dpc@gmail.com
END:VEVENT
BEGIN:VEVENT
DTSTART;TZID=UTC:20261119T183000
DTEND;TZID=UTC:20261119T213000
DTSTAMP:20260421T212101
CREATED:20260203T153546Z
LAST-MODIFIED:20260420T131930Z
UID:21985-1795113000-1795123800@www.fcvd.fr
SUMMARY:Réunion régionale Caen
DESCRIPTION:Fin d’inscription sur l’agence du DPC le 05-11-2026
URL:https://www.fcvd.fr/agenda/reunion-regionale-caen-3/
LOCATION:Caen\, Mercure Caen Centre Port de Plaisance 1 rue de Courtonne\, Caen\, 14018\, France
CATEGORIES:DPC FCVD Réunions Régionales
ATTACH;FMTTYPE=image/png:https://www.fcvd.fr/wp-content/uploads/2024/02/humans-18-512.png
ORGANIZER;CN="FCVD - Inscriptions":MAILTO:fcvd.oa.dpc@gmail.com
END:VEVENT
END:VCALENDAR