BEGIN:VCALENDAR
VERSION:2.0
PRODID:-//Fédération de Chirurgie Viscérale et Digestive - ECPv6.15.20//NONSGML v1.0//EN
CALSCALE:GREGORIAN
METHOD:PUBLISH
X-WR-CALNAME:Fédération de Chirurgie Viscérale et Digestive
X-ORIGINAL-URL:https://www.fcvd.fr
X-WR-CALDESC:Évènements pour Fédération de Chirurgie Viscérale et Digestive
REFRESH-INTERVAL;VALUE=DURATION:PT1H
X-Robots-Tag:noindex
X-PUBLISHED-TTL:PT1H
BEGIN:VTIMEZONE
TZID:UTC
BEGIN:STANDARD
TZOFFSETFROM:+0000
TZOFFSETTO:+0000
TZNAME:UTC
DTSTART:20230101T000000
END:STANDARD
END:VTIMEZONE
BEGIN:VEVENT
DTSTART;TZID=UTC:20241005T080000
DTEND;TZID=UTC:20241005T170000
DTSTAMP:20260425T102619
CREATED:20240206T134604Z
LAST-MODIFIED:20240206T134604Z
UID:17475-1728115200-1728147600@www.fcvd.fr
SUMMARY:GRD-Engagé
DESCRIPTION:
URL:https://www.fcvd.fr/agenda/grd-engage/
LOCATION:Novotel Paris Centre Gare Montparnasse\, 17 Rue du Cotentin\, PARIS\, 75015
CATEGORIES:DPC FCVD Gestion des risques
ATTACH;FMTTYPE=image/png:https://www.fcvd.fr/wp-content/uploads/2024/02/humans-18-512.png
ORGANIZER;CN="FCVD - Inscriptions":MAILTO:fcvd.oa.dpc@gmail.com
END:VEVENT
BEGIN:VEVENT
DTSTART;TZID=UTC:20241009T090000
DTEND;TZID=UTC:20241009T123000
DTSTAMP:20260425T102619
CREATED:20240206T134919Z
LAST-MODIFIED:20240206T134919Z
UID:17477-1728464400-1728477000@www.fcvd.fr
SUMMARY:Bureau
DESCRIPTION:
URL:https://www.fcvd.fr/agenda/bureau-36/
LOCATION:Visio
ATTACH;FMTTYPE=image/png:https://www.fcvd.fr/wp-content/uploads/2024/02/icone-visio.png
ORGANIZER;CN="FCVD - Inscriptions":MAILTO:fcvd.oa.dpc@gmail.com
END:VEVENT
BEGIN:VEVENT
DTSTART;TZID=UTC:20241010T140000
DTEND;TZID=UTC:20241010T170000
DTSTAMP:20260425T102619
CREATED:20240206T135723Z
LAST-MODIFIED:20251203T101921Z
UID:17479-1728568800-1728579600@www.fcvd.fr
SUMMARY:DPC - Club Coelio
DESCRIPTION:
URL:https://www.fcvd.fr/agenda/dpc-club-coelio-2/
LOCATION:Lille\, Lille\, 59800
CATEGORIES:DPC des partenaires
ATTACH;FMTTYPE=image/png:https://www.fcvd.fr/wp-content/uploads/2024/02/humans-18-512.png
ORGANIZER;CN="FCVD - Inscriptions":MAILTO:fcvd.oa.dpc@gmail.com
END:VEVENT
BEGIN:VEVENT
DTSTART;TZID=UTC:20241011T080000
DTEND;TZID=UTC:20241011T123000
DTSTAMP:20260425T102619
CREATED:20240206T140230Z
LAST-MODIFIED:20240206T140230Z
UID:17481-1728633600-1728649800@www.fcvd.fr
SUMMARY:Congrès - Club Coelio
DESCRIPTION:
URL:https://www.fcvd.fr/agenda/congres-club-coelio/
LOCATION:Lille\, Lille\, 59800
CATEGORIES:Congrès
ATTACH;FMTTYPE=image/png:https://www.fcvd.fr/wp-content/uploads/2024/02/humans-18-512.png
ORGANIZER;CN="FCVD - Inscriptions":MAILTO:fcvd.oa.dpc@gmail.com
END:VEVENT
BEGIN:VEVENT
DTSTART;TZID=UTC:20241012T080000
DTEND;TZID=UTC:20241012T170000
DTSTAMP:20260425T102619
CREATED:20240207T090033Z
LAST-MODIFIED:20240207T090033Z
UID:17515-1728720000-1728752400@www.fcvd.fr
SUMMARY:ASSPRO
DESCRIPTION:
URL:https://www.fcvd.fr/agenda/asspro-3/
LOCATION:Paris\, Novotel Paris Centre Gare Montparnasse - 17 rue du Cotentin\, 75015 Paris - France\, Paris\, 75014\, France
ATTACH;FMTTYPE=image/png:https://www.fcvd.fr/wp-content/uploads/2024/02/humans-18-512.png
END:VEVENT
BEGIN:VEVENT
DTSTART;TZID=UTC:20241012T080000
DTEND;TZID=UTC:20241012T180000
DTSTAMP:20260425T102619
CREATED:20240206T140758Z
LAST-MODIFIED:20240206T140758Z
UID:17483-1728720000-1728756000@www.fcvd.fr
SUMMARY:Congrès - Club Coelio
DESCRIPTION:
URL:https://www.fcvd.fr/agenda/congres-club-coelio-2/
LOCATION:Lille\, Lille\, 59800
CATEGORIES:Congrès
ATTACH;FMTTYPE=image/png:https://www.fcvd.fr/wp-content/uploads/2024/02/humans-18-512.png
ORGANIZER;CN="FCVD - Inscriptions":MAILTO:fcvd.oa.dpc@gmail.com
END:VEVENT
BEGIN:VEVENT
DTSTART;TZID=UTC:20241012T090000
DTEND;TZID=UTC:20241012T123000
DTSTAMP:20260425T102619
CREATED:20240205T144646Z
LAST-MODIFIED:20240412T115904Z
UID:17336-1728723600-1728736200@www.fcvd.fr
SUMMARY:Réunion Régionale Limoges
DESCRIPTION:
URL:https://www.fcvd.fr/agenda/reunion-regionale-limoges-2/
LOCATION:Mercure Limoges Royal Limousin\, Accès Voiture Par Dépose Minutes\, 7 Bd Carnot\, Limoges\, 87000
CATEGORIES:DPC FCVD Réunions Régionales
ATTACH;FMTTYPE=image/jpeg:https://www.fcvd.fr/wp-content/uploads/2020/10/LOGO_R_Bur.jpg
ORGANIZER;CN="FCVD - Inscriptions":MAILTO:fcvd.oa.dpc@gmail.com
END:VEVENT
BEGIN:VEVENT
DTSTART;TZID=UTC:20241025T100000
DTEND;TZID=UTC:20241025T160000
DTSTAMP:20260425T102619
CREATED:20240206T141424Z
LAST-MODIFIED:20240206T141424Z
UID:17487-1729850400-1729872000@www.fcvd.fr
SUMMARY:CRIS
DESCRIPTION:
URL:https://www.fcvd.fr/agenda/cris-2/
LOCATION:Paris/Vsio\, HAS - 5 Av. du Stade de France\,\, Saint-Denis\, 93210\, France
ATTACH;FMTTYPE=image/png:https://www.fcvd.fr/wp-content/uploads/2024/02/icone-visio.png
ORGANIZER;CN="FCVD - Inscriptions":MAILTO:fcvd.oa.dpc@gmail.com
END:VEVENT
BEGIN:VEVENT
DTSTART;TZID=UTC:20241028T193000
DTEND;TZID=UTC:20241028T203000
DTSTAMP:20260425T102619
CREATED:20240206T142040Z
LAST-MODIFIED:20240206T142040Z
UID:17489-1730143800-1730147400@www.fcvd.fr
SUMMARY:VISCERISQ - mensuel
DESCRIPTION:
URL:https://www.fcvd.fr/agenda/viscerisq-mensuel-9/
LOCATION:Visio
ATTACH;FMTTYPE=image/png:https://www.fcvd.fr/wp-content/uploads/2024/02/icone-visio.png
ORGANIZER;CN="FCVD - Inscriptions":MAILTO:fcvd.oa.dpc@gmail.com
END:VEVENT
END:VCALENDAR